BEGIN:VCALENDAR
VERSION:2.0
X-WR-TIMEZONE:Europe/Paris
PRODID:-//Audencia//NONSGML v1.0//EN
CALSCALE:GREGORIAN
BEGIN:VEVENT
SUMMARY:Audencia Alumni Beijing 8th Activity - Xiangshan Park (Fragrant Hills Park)
DTSTART:20181014T090000
DTEND:20181014T160000
UID:180
DTSTAMP:20260425T205905
LOCATION:Xiangshan, Beijing
DESCRIPTION:Xiangshan Park (Fragrant Hills Park) is known as one of the must-visit places in Beijing in autumn, famous for it's scenary covered in red and yellow. The location is not too far from city center, which is also an important reason to be selected as our destination for the first outdoor activity, proposed by some alumni in Beijing. \n\nPlease add wechat 18618173336 for details. You will be invited to join Beijing Alumni wechat group and will be informed all activities promptly. \n\n- Katherine 
BEGIN:VALARM
ACTION:DISPLAY
TRIGGER:-PT60M
DESCRIPTION:Audencia Alumni Beijing 8th Activity - Xiangshan Park (Fragrant Hills Park)
END:VALARM
END:VEVENT
END:VCALENDAR