BEGIN:VCALENDAR
VERSION:2.0
X-WR-TIMEZONE:Europe/Paris
PRODID:-//Audencia//NONSGML v1.0//EN
CALSCALE:GREGORIAN
BEGIN:VEVENT
SUMMARY:Afterwork Audencia Munich - Avril - REPORTÉ AU 27 !
DTSTART:20170427T190000
DTEND:20170427T230000
UID:18
DTSTAMP:20260425T205736
LOCATION:Arts ´n´ Boards, Belgradstr. 9, 80796 München
DESCRIPTION:Suite aux vacances de Pâques, l´événement est reporté au jeudi 27 avril !\n\nRetrouvons-nous pour échanger autour d'un verre au bar Arts ´n´Boards, à Schwabing.\n 
BEGIN:VALARM
ACTION:DISPLAY
TRIGGER:-PT60M
DESCRIPTION:Afterwork Audencia Munich - Avril - REPORTÉ AU 27 !
END:VALARM
END:VEVENT
END:VCALENDAR