BEGIN:VCALENDAR
VERSION:2.0
X-WR-TIMEZONE:Europe/Paris
PRODID:-//Audencia//NONSGML v1.0//EN
CALSCALE:GREGORIAN
BEGIN:VEVENT
SUMMARY:Borrel de rentrée n°5 - pétanque
DTSTART:20181003T180000
DTEND:20181003T230000
UID:179
DTSTAMP:20260425T210120
LOCATION:Mooie Boules Zeeburgerpad 3 1018 AH Amsterdam
DESCRIPTION:Borrel de rentrée
BEGIN:VALARM
ACTION:DISPLAY
TRIGGER:-PT60M
DESCRIPTION:Borrel de rentrée n°5 - pétanque
END:VALARM
END:VEVENT
END:VCALENDAR