BEGIN:VCALENDAR
VERSION:2.0
X-WR-TIMEZONE:Europe/Paris
PRODID:-//Audencia//NONSGML v1.0//EN
CALSCALE:GREGORIAN
BEGIN:VEVENT
SUMMARY:ANNULE Afterwork d' Octobre
DTSTART:20181023T190000
DTEND:20181023T220000
UID:178
DTSTAMP:20260425T223706
LOCATION:L'Osteria München Künstlerhaus, Lenbachpl. 8 (Karlsplatz)
DESCRIPTION:ANNULÉ pour cause de manque de participants inscrits.\n---------------------------------\n\nBonjour à tous, \nun petit sondage pour voir les intéressés pour le mois d'octobre. Inscrivez-vous vite et réservez la date, nous nous retrouverons au restaurant l'Osteria près de Karlsplatz, là où les pizzas sont plus grosses que les assiettes!\n\nMerci de prévenir les nouveaux arrivants.\n\nEn-dessous de 5 inscrits, l'événement sera annulé.\nA bientôt,\nAmandine
BEGIN:VALARM
ACTION:DISPLAY
TRIGGER:-PT60M
DESCRIPTION:ANNULE Afterwork d' Octobre
END:VALARM
END:VEVENT
END:VCALENDAR