BEGIN:VCALENDAR
VERSION:2.0
X-WR-TIMEZONE:Europe/Paris
PRODID:-//Audencia//NONSGML v1.0//EN
CALSCALE:GREGORIAN
BEGIN:VEVENT
SUMMARY:Afterwork Audencia London 28 September
DTSTART:20180928T180000
DTEND:20180928T210000
UID:177
DTSTAMP:20260425T210008
LOCATION:The Counting House, 50 Cornhill, London, EC3V 3PD
DESCRIPTION:Bonjour les Audanciens,\n\nIt is time to meet again for a few drinks at the beautiful Counting House in the heart of the City of London on Friday 28 September. It will be the opportunity to talk about our now distant summer holidays and eventually meet newcomers to London and the UK.\n\nAlso, I will use this afterwork to gauge your interest for organising other type of events: dinners, wine tasting, picnics, karaoke, mini-golf, battle royale, etc. Your suggestions are more than welcome therefore, if you are not able to make it to the drinks on the 28th, feel free to get in touch through Together, by email tristan.pelloux[at]gmail.com, text 07480 957 202 or even carrier pigeons to the 15th floor of the Leadenhall Building (I will try to open the window).\n\nLooking forward to it :-)\n\nAmicalement vôtre,\n\nTristan
BEGIN:VALARM
ACTION:DISPLAY
TRIGGER:-PT60M
DESCRIPTION:Afterwork Audencia London 28 September
END:VALARM
END:VEVENT
END:VCALENDAR