BEGIN:VCALENDAR
VERSION:2.0
X-WR-TIMEZONE:Europe/Paris
PRODID:-//Audencia//NONSGML v1.0//EN
CALSCALE:GREGORIAN
BEGIN:VEVENT
SUMMARY:Additional Afterwork meetup
DTSTART:20180920T183000
DTEND:20180920T220000
UID:174
DTSTAMP:20260425T205822
LOCATION:San Francisco, CA
DESCRIPTION:Join us for an additional afterwork meetup in San Francisco, Thursday September 20\nand meet with Michelle Cristy, Audencia International relations manager!\n\nSee you All there!
BEGIN:VALARM
ACTION:DISPLAY
TRIGGER:-PT60M
DESCRIPTION:Additional Afterwork meetup
END:VALARM
END:VEVENT
END:VCALENDAR