BEGIN:VCALENDAR
VERSION:2.0
X-WR-TIMEZONE:Europe/Paris
PRODID:-//Audencia//NONSGML v1.0//EN
CALSCALE:GREGORIAN
BEGIN:VEVENT
SUMMARY:Afterwork à Genève - Le Marcel
DTSTART:20180927T183000
DTEND:20180927T235900
UID:173
DTSTAMP:20260425T205845
LOCATION:6 rue Dancet - 1205 Genève
DESCRIPTION:Afterwork à Genève - Jeudi 27 Septembre dès 18h30 - Le Marcel\n\nPour célébrer la rentrée, nous vous proposons de nous retrouver autour d'un verre et d'un terrain de pétanque!:\nLe Marcel -  6 rue Dancet 1205 Genève  \nInscription sur Togheter.\n\nAu plaisir de vous voir!
BEGIN:VALARM
ACTION:DISPLAY
TRIGGER:-PT60M
DESCRIPTION:Afterwork à Genève - Le Marcel
END:VALARM
END:VEVENT
END:VCALENDAR