BEGIN:VCALENDAR
VERSION:2.0
X-WR-TIMEZONE:Europe/Paris
PRODID:-//Audencia//NONSGML v1.0//EN
CALSCALE:GREGORIAN
BEGIN:VEVENT
SUMMARY:Conf C&M - Emploi : Vers la fin du CDI ?
DTSTART:20180919T190000
DTEND:20180919T210000
UID:172
DTSTAMP:20260425T205847
LOCATION:Fondation d'entreprise Ricard, 12 Rue Boissy d'Anglas, Paris, France
DESCRIPTION:ATTENTION EVENEMENT PAYANT ! INSCRIPTIONS ICI : https://www.culture-et-management.com/debats/emploi_vers_la_fin_du_cdi.html\n\nCa y est c'est la rentrée culturelle !!!\nEt comme chaque année en cette période de rentrée, le club Culture et Management se propose de faire le point sur l’emploi dans le secteur culturel et plus particulièrement sur les différents types de contrats de travail.\n\nDans un contexte de diminution des contrats aidés et de remise en question du contrat à durée indéterminée, comprendre les subtilités des différents contrats de travail permet de mieux orienter sa recherche d’emploi, son évolution ou sa réorientation professionnelle.\n\nLa conférence permettra de répondre à plusieurs questions :\nPourquoi est-il pertinent de s’interroger sur les contrats de travail ? Quelles sont les difficultés à comprendre chaque statut ? \nQuels sont les différents types de contrats de travail dans le secteur culturel ? Y a-t-il des contrats spécifiques au domaine culturel ?\nVa-t-on vers la fin du CDI ? Quel avenir pour les contrats de travail dans le secteur culturel ?\n\nLa diversité des approches et points de vue des professionnels sur les questions soulevées permettra d’embrasser le secteur culturel dans son ensemble avec toutes les spécificités qui le composent.
BEGIN:VALARM
ACTION:DISPLAY
TRIGGER:-PT60M
DESCRIPTION:Conf C&M - Emploi : Vers la fin du CDI ?
END:VALARM
END:VEVENT
END:VCALENDAR