BEGIN:VCALENDAR
VERSION:2.0
X-WR-TIMEZONE:Europe/Paris
PRODID:-//Audencia//NONSGML v1.0//EN
CALSCALE:GREGORIAN
BEGIN:VEVENT
SUMMARY:Afterwork meetup
DTSTART:20180830T193000
DTEND:20180830T223000
UID:171
DTSTAMP:20260425T205952
LOCATION:MOODS WINE BAR 320 California Ave Palo Alto, California
DESCRIPTION:Afterwork meetup in Palo Alto!\nat the Moods Wine Bar\nReservation under "Lucy".\n\nDon't forget to register.\nSee you!
BEGIN:VALARM
ACTION:DISPLAY
TRIGGER:-PT60M
DESCRIPTION:Afterwork meetup
END:VALARM
END:VEVENT
END:VCALENDAR