BEGIN:VCALENDAR
VERSION:2.0
X-WR-TIMEZONE:Europe/Paris
PRODID:-//Audencia//NONSGML v1.0//EN
CALSCALE:GREGORIAN
BEGIN:VEVENT
SUMMARY:Afterwork avec Uwe Supper - Haidhauser Augustiner
DTSTART:20180925T190000
DTEND:20180925T220000
UID:170
DTSTAMP:20260425T205729
LOCATION:Wörthstraße 34 81667 München
DESCRIPTION:Bonjour à tous, \ntradition annuelle oblige, Uwe Supper sera de passage à Munich fin septembre et je vous propose de nous retrouver autour d' un verre au Haidhauser Augustiner près de Ostbahnhof (http://haidhauser-augustiner.de).\n\nInscrivez-vous vite pour que je puisse réserver les tables.\n\nMerci de faire passer le mot aux participants.\n\nA bientôt,\nAmandine
BEGIN:VALARM
ACTION:DISPLAY
TRIGGER:-PT60M
DESCRIPTION:Afterwork avec Uwe Supper - Haidhauser Augustiner
END:VALARM
END:VEVENT
END:VCALENDAR