BEGIN:VCALENDAR
VERSION:2.0
X-WR-TIMEZONE:Europe/Paris
PRODID:-//Audencia//NONSGML v1.0//EN
CALSCALE:GREGORIAN
BEGIN:VEVENT
SUMMARY:2ème soirée inter Grandes Ecoles - Conférence-débat "Pourquoi le sportif de haut niveau est-il un atout pour l'entreprise ?"
DTSTART:20170330T183000
DTEND:20170330T230000
UID:17
DTSTAMP:20260425T205732
LOCATION:KEDGE BS Campus de Bordeaux  680 cours de la Libération  33400 Talence
DESCRIPTION:Forts du succès rencontré lors de la première édition de l'événement qui a réuni près de 200 diplômés les réseaux d'Alumni d'AUDENCIA, de l'EDHEC, EM Lyon, ESCP, ESSEC, HEC, NEOMA et KEDGE Business School, j'ai le plaisir de vous convier à la 2ème soirée alumni inter-grandes écoles, dans les locaux de Kedge Business School à Talence le jeudi 30 mars à partir de 18h30. Une occasion unique de favoriser les échanges et d'élargir votre réseau !\n\nAu programme de la soirée :\n\n18h30 : Accueil \n19h00 : Conférence interactive, sur le thème\n\n\n "Pourquoi le sportif de haut niveau est-il un atout pour l'entreprise?"\n\n          \n\nCette conférence sera animée par Frédéric LAHARIE, Chef du service des Sports de Sud Ouest.\n\n\n\n20h00 : Cocktail, moment convivial pour échanger entre participants \n\nINSCRIPTION OBLIGATOIRE\n\nContact : Julie PACHON, julie.pachon@kedgebs.com
BEGIN:VALARM
ACTION:DISPLAY
TRIGGER:-PT60M
DESCRIPTION:2ème soirée inter Grandes Ecoles - Conférence-débat "Pourquoi le sportif de haut niveau est-il un atout pour l'entreprise ?"
END:VALARM
END:VEVENT
END:VCALENDAR