BEGIN:VCALENDAR
VERSION:2.0
X-WR-TIMEZONE:Europe/Paris
PRODID:-//Audencia//NONSGML v1.0//EN
CALSCALE:GREGORIAN
BEGIN:VEVENT
SUMMARY:CINETRANSAT is back? Jeudi 19 Juillet - 19 H - Perle du Lac
DTSTART:20180719T190000
DTEND:20180719T230000
UID:169
DTSTAMP:20260425T205851
LOCATION:Les perles du lac  Geneve Suisse
DESCRIPTION: \n\nBonjour à tous, c'est l'évènement annuel :)!\nRetrouvons-nous pour une soirée conviviale jeudi prochain, à partir de 19h à la Perle du Lac...\nUne soirée spéciale en plus: concours de pic-nic "Le thème : « Suisse kitsch » !\nVenez avec fondues, raclettes, röstis et toutes nos spécialités typiquement suisses et inspirez-vous du drapeau rouge et blanc, même si vous n'êtes pas bon en cuisine ! ... et votre mailoot de bain si vous voulez piquez une tête ... !\n\nUn petit commentaire pour nous indiquer votre venue?\n\nPlus d'information ici : https://www.cinetransat.ch/film/Les-faiseurs-de-Suisses
BEGIN:VALARM
ACTION:DISPLAY
TRIGGER:-PT60M
DESCRIPTION:CINETRANSAT is back? Jeudi 19 Juillet - 19 H - Perle du Lac
END:VALARM
END:VEVENT
END:VCALENDAR