BEGIN:VCALENDAR
VERSION:2.0
X-WR-TIMEZONE:Europe/Paris
PRODID:-//Audencia//NONSGML v1.0//EN
CALSCALE:GREGORIAN
BEGIN:VEVENT
SUMMARY:Afterwork Audencia London 26 July
DTSTART:20180726T180000
DTEND:20180726T210000
UID:166
DTSTAMP:20260425T223739
LOCATION:Bar Kick, 127 Shoreditch High St, London E1 6JE
DESCRIPTION:Hello,\n\nBetween barbecues, rooftops and other picnics, let's meet at the Bar Kick in the super trendy borough of Shoreditch to have some drinks, talk about how we nailed England in the final of the World Cup (I might get that wrong...) and last but not least play some very French 'baby foot' (a football table is reserved for us).\n\nSee you all very soon.\n\nAmicalement vôtre,\n\nTristan
BEGIN:VALARM
ACTION:DISPLAY
TRIGGER:-PT60M
DESCRIPTION:Afterwork Audencia London 26 July
END:VALARM
END:VEVENT
END:VCALENDAR