BEGIN:VCALENDAR
VERSION:2.0
X-WR-TIMEZONE:Europe/Paris
PRODID:-//Audencia//NONSGML v1.0//EN
CALSCALE:GREGORIAN
BEGIN:VEVENT
SUMMARY:Audencia Alumni Beijing 7th Afterwork
DTSTART:20180713T190000
DTEND:20180713T230000
UID:165
DTSTAMP:20260425T205910
LOCATION:Qmex Taqueria (106, Jinshang Shouceng, 20 Xinyuanli Xili, Chaoyang District)
DESCRIPTION:It has been long time since our last afterwork in May (and I didn't post a few previous events in the group, sorry for that)! Let's meet up and enjoy some Mexican food to relax a bit after tiring work :) \n\nYou may expect prompt response by adding me on wechat: 18618173336 \n\nSee you there! \n\n- Katherine 
BEGIN:VALARM
ACTION:DISPLAY
TRIGGER:-PT60M
DESCRIPTION:Audencia Alumni Beijing 7th Afterwork
END:VALARM
END:VEVENT
END:VCALENDAR