BEGIN:VCALENDAR
VERSION:2.0
X-WR-TIMEZONE:Europe/Paris
PRODID:-//Audencia//NONSGML v1.0//EN
CALSCALE:GREGORIAN
BEGIN:VEVENT
SUMMARY:Borrel de juillet
DTSTART:20180712T190000
DTEND:20180712T230000
UID:164
DTSTAMP:20260425T205909
LOCATION:Bar Bukowski Oosterpark 10, 1092 AE Amsterdam
DESCRIPTION:Borrel de juillet pour profiter du beau temps et discuter de vacances, peut-etre de foot, des bons restaus d'Amsterdam, des films récents à voir, des grèves en France et éventuellement un peu du boulot aussi.\n\nRDV au Bar Bukowski (Oosterpark 10, 1092 AE Amsterdam) à partir de 19h
BEGIN:VALARM
ACTION:DISPLAY
TRIGGER:-PT60M
DESCRIPTION:Borrel de juillet
END:VALARM
END:VEVENT
END:VCALENDAR