BEGIN:VCALENDAR
VERSION:2.0
X-WR-TIMEZONE:Europe/Paris
PRODID:-//Audencia//NONSGML v1.0//EN
CALSCALE:GREGORIAN
BEGIN:VEVENT
SUMMARY:Chapter Lyon - dernier afterwork Audencia Alumni - 23 juillet 2018
DTSTART:20180723T190000
DTEND:20180723T230000
UID:163
DTSTAMP:20260425T210046
LOCATION:Bar Le République Place de l'hôpital, 19 Rue Louis Paufique, 69002 Lyon (Métro Bellecour ou Cordeliers)
DESCRIPTION:Chers tous,\n\nEn ce début d'été, il est temps de trinquer !\nAussi vous convierai-je, au grand complet cortège,\nA un dernier canon entre bons compagnons,\nle 23 juillet (lieu à déterminer)...\n...en guise d'au revoir, mais le coeur plein d'espoir :\nl'Auvergne sera mienne, et que pourra advienne,\ndès le mois de septembre, de l'automne antichambre.\nC'est un nouveau départ, mais sans grand tintamarre, \njuste l'heure de vous dire le bonheur de servir\nce chapter lyonnais qui saura gambader\nvers de beaux horizons. Bien à vous, Paul Pinlon
BEGIN:VALARM
ACTION:DISPLAY
TRIGGER:-PT60M
DESCRIPTION:Chapter Lyon - dernier afterwork Audencia Alumni - 23 juillet 2018
END:VALARM
END:VEVENT
END:VCALENDAR