BEGIN:VCALENDAR
VERSION:2.0
X-WR-TIMEZONE:Europe/Paris
PRODID:-//Audencia//NONSGML v1.0//EN
CALSCALE:GREGORIAN
BEGIN:VEVENT
SUMMARY:First Meet-up!
DTSTART:20180628T190000
DTEND:20180628T220000
UID:161
DTSTAMP:20260425T205718
LOCATION:San Francisco
DESCRIPTION:Hello, First meetup confirmed for our San Francisco Bay Area chapter this Thursday, June 28th.\nLocation San Francisco.\nFurther details on the location to come.\nPlease confirm your attendance. Thanks.\nHope to see you All !\nLucie\n 
BEGIN:VALARM
ACTION:DISPLAY
TRIGGER:-PT60M
DESCRIPTION:First Meet-up!
END:VALARM
END:VEVENT
END:VCALENDAR