BEGIN:VCALENDAR
VERSION:2.0
X-WR-TIMEZONE:Europe/Paris
PRODID:-//Audencia//NONSGML v1.0//EN
CALSCALE:GREGORIAN
BEGIN:VEVENT
SUMMARY:Fin de saison C&M : Remise des prix Start-up en Scène!
DTSTART:20180620T183000
DTEND:20180620T235900
UID:160
DTSTAMP:20260425T205911
LOCATION:club Silencio 142, rue Montmartre – 75002 PARIS  Métro : Bourse, Grands Boulevards ou Sentier  Parkings : Bourse et Passage du Havre
DESCRIPTION:EVENEMENT PAYANT : INSCRIPTION OBLIGATOIRE SUR : https://www.culture-et-management.com/debats/start_up_en_scene_saison_3.html\n\nVenez célébrer la fin de la saison Culture & Management en participant à la troisième édition de notre prix Start-up en Scène, l'événement networking exceptionnel du mois de juin !\n\nCet événement réseau, organisé avec le soutien de In Extenso, Cultureveille, LINCC, Paris&Co et Audencia Business Schoolvous propose de découvrir les start-up innovantes du secteur culturel et des industries créatives. Notre comité de sélection a analysé les dossiers déposés par les start-up suite à un appel à candidature afin de déterminer les lauréats dans les 5 catégories suivantes : Beaux Arts / Patrimoine, Edition, Musique, Spectacle Vivant et Cinéma & Audiovisuel.\n\nCe sera le moment de savoir si les startups audenciennes sont retenues ou non dans leur prix respectif! Notamment : \n- Atypic' Photo de Natasha Gan (GE 14) : https://www.atypic-photo.com/\n- Spline de Claire-Alix Gomez (GE 14) : http://www.spline.fr/\n- Sonic Solveig editions de Ramzi Saidani (GE 98) :https://sonicsolveig.com/wordpress/\n- Accordissimo de Valérie Gombart (GE 97) : http://www.accordissimo.com/\n\nPour l'occasion, le club Culture & Management a réuni dans son comité de sélection des personnalités reconnues pour leur expertise dans chacun de ces domaines :\n\n\n\n\n\n	\n	Camille ALCOVER, Co-fondatrice et DG de la French Team, Responsable de la rédaction de Culturveille\n	\n	\n	Dominique ALDUY, Présidente du Théâtre de la Ville\n	\n	\n	Charlotte ALLIBERT, Co-fondatrice de Librinova.com\n	\n	\n	Gilles DUFFAU, Chargé de projet e-culture, Groupe Caisse Des Dépôts\n	\n	\n	Thomas LAURIOT DIT PREVOST, Directeur général du Théâtre du Châtelet\n	\n	\n	Dominique LECEA, Directeur In Extenso TCH\n	\n	\n	Laurence LE NY  -  Directrice Ecosystème Start-up Industries Créatives  -  Orange Content\n	\n	\n	Nicolas ORSINI, Chef du département de l'innovation numérique au ‎Ministère de la Culture\n	\n	\n	Catherine PEYROT, Responsable de plateforme incubation LINCC chez Paris and Co\n	\n	\n	Laure PRESSAC, Responsable de la mission stratégie, prospective et numérique au ‎Centre des monuments nationaux\n	\n	\n	Delphine SABATTIER, Journaliste tech et speaker TV. Directrice éditoriale\n	\n\n\n​Toutes les informations sur le prix et le comité de sélection sont disponibles sur le site dédié : www.start-up-en-scene.com.\n\nC'est dans le cadre du très exclusif club Silencio — véritable salon d'artiste qui doit sa scénographie au cinéaste David Lynch — que se déroulera la seconde édition de cet événement réseau exceptionnel. Rendez-vous donc mercredi 20 juin à partir de 19h au club Silencio pour découvrir et échanger avec ces start-up innovantes lors d'une soirée spéciale prolongée par une séquence de networking.\n\nRéservez votre place en ligne : https://www.culture-et-management.com/debats/start_up_en_scene_saison_3.html(Notez que l'inscription est fortement recommandé, le nombre de places au club Silencio étant strictement limité pour des questions de sécurité).\n\nRAPPELS :\n\n- L'événement commence à 19h, l'accueil se fait à partir de 18h30\n- Pour le règlement, la carte bleue n'est pas acceptée mais vous pouvez régler par chèque ou en espèces.\n- Pour cet événement, un tarif unique de 30 € est appliqué à tous.\n\nAu plaisir de vous retrouver prochainement. \n\nL'équipe du Club Culture & Management
BEGIN:VALARM
ACTION:DISPLAY
TRIGGER:-PT60M
DESCRIPTION:Fin de saison C&M : Remise des prix Start-up en Scène!
END:VALARM
END:VEVENT
END:VCALENDAR