BEGIN:VCALENDAR
VERSION:2.0
X-WR-TIMEZONE:Europe/Paris
PRODID:-//Audencia//NONSGML v1.0//EN
CALSCALE:GREGORIAN
BEGIN:VEVENT
SUMMARY:Afterwork - Drinks
DTSTART:20170322T190000
DTEND:20170322T210000
UID:16
DTSTAMP:20260425T205718
LOCATION:Papillon, 22East 54th Street
DESCRIPTION:Premier rendez vous de l'année pour un pot afterwork mercredi 22 mars a 7pm chez Papillon - 22 E 54th St - upstairs.\n\nNous esperons vous voir nombreux.\n\nMerci de me confirmer votre presence cette semaine et de transmettre aux nouveaux arrivants qui ne seraient pas encore sur Together.\nBien cordialement,\n\nEva
BEGIN:VALARM
ACTION:DISPLAY
TRIGGER:-PT60M
DESCRIPTION:Afterwork - Drinks
END:VALARM
END:VEVENT
END:VCALENDAR