BEGIN:VCALENDAR
VERSION:2.0
X-WR-TIMEZONE:Europe/Paris
PRODID:-//Audencia//NONSGML v1.0//EN
CALSCALE:GREGORIAN
BEGIN:VEVENT
SUMMARY:19 juin - Genève - GEM - Table ronde entrepreneuriat et impact social
DTSTART:20180619T183000
DTEND:20180619T213000
UID:157
DTSTAMP:20260425T205816
LOCATION:Café restaurant 05 Rue des Caroubiers 5 12227 Carouge Suisse
DESCRIPTION: \n\n\n\nGEM Alumni Suisse Romande organise sa première table ronde et vous propose de bénéficier des retours d’expérience de 3 entrepreneurs du réseau.\n\n\n\n\n\n\n\n\n\n« DE SALARIE A ENTREPRENEUR, ILS ONT DIT OUI !!!!… AVEC LA VOLONTE D’AVOIR UN IMPACT SOCIAL »\n \n\n\n\nVenez écouter leur témoignage et leur poser vos questions ! La table ronde sera suivi d’un cocktail dinatoire pour poursuivre les échanges et réseauter.\n\nAu programme :\n18H30-19H00 – Accueil et dégustation Hoppbox\n19H00-20H15 – Table Ronde et Q&A\n20H15-21H30 – Cocktail dinatoire et échange\n\nPrix évènement:  Prix public et invité: 25 CHF (22 euros)\n\nINSCRIPTIONS : https://alumni.grenoble-em.com/app/event-registration?ID_GEM=6318&ID_NODE=9365\n\nHors GEM : Créer un compte afin que nous puissions vous confirmer votre inscription et vous envoyer les détails.\nVotre contribution permet au groupe de bénévoles de trouver un lieu et de vous offrir un cocktail convivial.\nNous avons choisi pour cet évènement le café-restaurant de la fondation foyer handicap qui offre une cuisine de qualité et contribue à l’impact social en proposant des postes de travail à des personnes à mobilité réduite ou polyhandicapées.\n\nQUELQUES MOTS SUR NOS INTERVENANTS :\n\nMarie Giacherio est la Co-fondatrice La Charrette, plateforme de covoiturage pour nos produits locaux.\nExperte-comptable repentie, elle décide en 2016 de mettre ses compétences et son énergie au service de la révolution agroalimentaire en marche en inventant avec sa sœur une logistique écologique et viable adaptée aux circuits-courts.\nA travers La Charrette, elle milite en faveur d'une alimentation durable, accessible à tous, et pour une agriculture justement rémunérée et économiquement saine. www.lacharrette.org\n\nNicholas Richmond GEM MIB 2009, est le fondateur et président de Hoppbox SA qui crée et produit une gamme de snacks aussi savoureux que sains.\nApres 8 ans passéS en tant que responsable marketing dans une société de grande consommation,Nick décide en 2015 de créer Hoppbox SA. Une entreprise qui a pour mission d'aider les gens à mener leur vie au maximum grâce à une meilleure santé et en faisant du bien en même temps. www.hoppbox.com\n\nHichame Metatla gem esc 2006 est le co-fondateur et vice-president de The Shared Brain\nHichame a commencé sa carrière en tant qu’analyste financier. Après 10 années de carrière en banque, il lance sa première startup, une plateforme de financement participatif en capital, la première du genre en Suisse Romande.\nIl est aujourd’hui le co-fondateur de The Shared Brain, une startup présente dans 5 pays d’Europe, dont la mission est de mobiliser l’intelligence collective pour aider entrepreneurs et grandes entreprises à innover. www.thesharedbrain.com\n\n \n\n\n\n\n
BEGIN:VALARM
ACTION:DISPLAY
TRIGGER:-PT60M
DESCRIPTION:19 juin - Genève - GEM - Table ronde entrepreneuriat et impact social
END:VALARM
END:VEVENT
END:VCALENDAR