BEGIN:VCALENDAR
VERSION:2.0
X-WR-TIMEZONE:Europe/Paris
PRODID:-//Audencia//NONSGML v1.0//EN
CALSCALE:GREGORIAN
BEGIN:VEVENT
SUMMARY:Afterwork Paris GE2017
DTSTART:20180704T200000
DTEND:20180705T050000
UID:156
DTSTAMP:20260425T205910
LOCATION:Quais de Seine, Paris (à préciser dans les prochaines semaines)
DESCRIPTION:#1 Afterwork de notre promo GE2017 !\n\nSave the Date - Mercredi 4 Juillet 2018\n\nLa seine, le soleil, les pintes, les amis...\nUne bonne occasion pour tous se retrouver en ce début d'été !\n\nNicolas MALLASSAGNE et Julien DENIS\n 
BEGIN:VALARM
ACTION:DISPLAY
TRIGGER:-PT60M
DESCRIPTION:Afterwork Paris GE2017
END:VALARM
END:VEVENT
END:VCALENDAR