BEGIN:VCALENDAR
VERSION:2.0
X-WR-TIMEZONE:Europe/Paris
PRODID:-//Audencia//NONSGML v1.0//EN
CALSCALE:GREGORIAN
BEGIN:VEVENT
SUMMARY:Dîner Réseau chez Yannick
DTSTART:20180619T200000
DTEND:20180619T233000
UID:155
DTSTAMP:20260425T205736
LOCATION:Chez Yannick 3 Rue Delacroix 31000 Toulouse
DESCRIPTION:Bonjour à tous !\n\nAprès plusieurs mois sans événement, il est grand temps de nous réunir ! Nous vous proposons de nous retrouver pour un dîner convivial le 19 Juin prochain au restaurant chez Yannick à Toulouse.\n\nPour cette soirée un menu à 38€ par personne vous est proposé comprenant une entrée, un plat et un dessert au choix, ainsi que le vin et le café.  Le chef est en train de nous composer un menu spécial, aussi n'hésitez pas à indiquer vos éventuelles allergies.\n\nNous vous attendons nombreux,\nA très bientôt\n 
BEGIN:VALARM
ACTION:DISPLAY
TRIGGER:-PT60M
DESCRIPTION:Dîner Réseau chez Yannick
END:VALARM
END:VEVENT
END:VCALENDAR