BEGIN:VCALENDAR
VERSION:2.0
X-WR-TIMEZONE:Europe/Paris
PRODID:-//Audencia//NONSGML v1.0//EN
CALSCALE:GREGORIAN
BEGIN:VEVENT
SUMMARY:Afterschool #3
DTSTART:20180621T173000
DTEND:20180622T010000
UID:154
DTSTAMP:20260425T205720
LOCATION:Bientôt révélé
DESCRIPTION:Bonjour la promo 2016 !\n\nLa chaleur de l'été te fait déjà suer ?\nTes boss t'ont empêché de poser des jours tout l'été ?\nTes camarades d'Audencia te manquent tout simplement ?\n\nVous êtes cordialement invités au prochain Afterwork de Promo 2016, le jeudi 21 juin à 19h30 !\n\nLe lieu vous sera révélé très prochainement :)\n\nPortez vous bien et en espérant vous voir nombreux en cette occasion !\n\nRaphaël
BEGIN:VALARM
ACTION:DISPLAY
TRIGGER:-PT60M
DESCRIPTION:Afterschool #3
END:VALARM
END:VEVENT
END:VCALENDAR