BEGIN:VCALENDAR
VERSION:2.0
X-WR-TIMEZONE:Europe/Paris
PRODID:-//Audencia//NONSGML v1.0//EN
CALSCALE:GREGORIAN
BEGIN:VEVENT
SUMMARY:Spring's Night - Audencia Bachelor Network
DTSTART:20180615T190000
DTEND:20180615T230000
UID:153
DTSTAMP:20260425T205715
LOCATION:Nantes
DESCRIPTION:Comme chaque année, votre réseau Audencia Bachelor Network vous propose de se retrouver lors d'une soirée alliant plaisir et rencontres professionnelles le Vendredi 15 Juin dès 19h30. (Evènement réservé aux diplomés)\n\nInscrivez-vous à l'événement pour réserver votre soirée et en savoir plus dans les jours à venir !\n\n \n\nA très vite,\n\nL'équipe Audencia Bachelor Network
BEGIN:VALARM
ACTION:DISPLAY
TRIGGER:-PT60M
DESCRIPTION:Spring's Night - Audencia Bachelor Network
END:VALARM
END:VEVENT
END:VCALENDAR