BEGIN:VCALENDAR
VERSION:2.0
X-WR-TIMEZONE:Europe/Paris
PRODID:-//Audencia//NONSGML v1.0//EN
CALSCALE:GREGORIAN
BEGIN:VEVENT
SUMMARY:ANNULÉ- Afterwork "Biergarten à la bavaroise"
DTSTART:20180821T180000
DTEND:20180821T220000
UID:152
DTSTAMP:20260425T205703
LOCATION:Biergarten am Chinesischer Turm (Englischer Garten)
DESCRIPTION:En août, profitons des biergarten et de la coutume bavaroise d' apporter son repas (il est toutefois possible de consommer des plats sur place) et retrouvons-nous pour un afterwork autour d' une bière sous la tour chinoise de Munich.\n\nInscrivez-vous vite, en-dessous de 5 participants l' événement sera annulé.\n\nMerci de faire passer le mot aux nouveaux arrivants.\n\nA bientôt,\nAmandine
BEGIN:VALARM
ACTION:DISPLAY
TRIGGER:-PT60M
DESCRIPTION:ANNULÉ- Afterwork "Biergarten à la bavaroise"
END:VALARM
END:VEVENT
END:VCALENDAR