BEGIN:VCALENDAR
VERSION:2.0
X-WR-TIMEZONE:Europe/Paris
PRODID:-//Audencia//NONSGML v1.0//EN
CALSCALE:GREGORIAN
BEGIN:VEVENT
SUMMARY:Afterwork "national"
DTSTART:20180717T190000
DTEND:20180717T220000
UID:151
DTSTAMP:20260425T223738
LOCATION:Munich, TBD
DESCRIPTION:Pour le mois de la fête nationale, je vous propose de nous retrouver autour d' une spécialité francaise.\nAu choix:\n-Crêperie Bernard & Bernard (http://creperie-bernard.de/)\n-Restaurant Maison Massard (http://www.maison-massard.de/)\n\nInscrivez-vous et votez jusqu' au 11 juillet.\nMerci de faire passer le mot aux nouveaux arrivants.\n\nInscrivez-vous vite, en-dessous de 5 personnes l' événement sera annulé.\n\nA bientôt\nAmandine
BEGIN:VALARM
ACTION:DISPLAY
TRIGGER:-PT60M
DESCRIPTION:Afterwork "national"
END:VALARM
END:VEVENT
END:VCALENDAR