BEGIN:VCALENDAR
VERSION:2.0
X-WR-TIMEZONE:Europe/Paris
PRODID:-//Audencia//NONSGML v1.0//EN
CALSCALE:GREGORIAN
BEGIN:VEVENT
SUMMARY:Tiens, v'là la relève : Afterwork Audencia Majeure culturelle / Ecole du Louvre
DTSTART:20180529T190000
DTEND:20180529T230000
UID:150
DTSTAMP:20260425T205731
LOCATION:L'Ivress Sentier 5 rue poissonnière, 75002 Paris
DESCRIPTION:Parce que comme chaque année la majeure culturelle est de passage sur la Capitale pour son séminaire à l'Ecole du Louvre... et que ça fait longtemps et qu'on a envie de vous retrouver autour d'un verre aussi :)\n\nPlus d'informations sur le bar L'Ivress - Sentier ici : http://livress.fr/
BEGIN:VALARM
ACTION:DISPLAY
TRIGGER:-PT60M
DESCRIPTION:Tiens, v'là la relève : Afterwork Audencia Majeure culturelle / Ecole du Louvre
END:VALARM
END:VEVENT
END:VCALENDAR