BEGIN:VCALENDAR
VERSION:2.0
X-WR-TIMEZONE:Europe/Paris
PRODID:-//Audencia//NONSGML v1.0//EN
CALSCALE:GREGORIAN
BEGIN:VEVENT
SUMMARY:Afterwork Audencia SciencesCom - Paris
DTSTART:20170328T193000
DTEND:20170328T220000
UID:15
DTSTAMP:20260425T210030
LOCATION:Le Bréguet 72 Rue Falguière, 75015 Paris
DESCRIPTION:Le réseau Audencia SciencesCom Parisien vous donne rendez-vous le mardi 28 mars pour profiter d'une soirée conviviale au bar Le Bréguet.\nNous vous attendons nombreux !
BEGIN:VALARM
ACTION:DISPLAY
TRIGGER:-PT60M
DESCRIPTION:Afterwork Audencia SciencesCom - Paris
END:VALARM
END:VEVENT
END:VCALENDAR