BEGIN:VCALENDAR
VERSION:2.0
X-WR-TIMEZONE:Europe/Paris
PRODID:-//Audencia//NONSGML v1.0//EN
CALSCALE:GREGORIAN
BEGIN:VEVENT
SUMMARY:Afterwork Audencia London 20 June
DTSTART:20180620T183000
DTEND:20180620T210000
UID:149
DTSTAMP:20260425T205718
LOCATION:Bar Elba Rooftop, Mercury House 109-117 Waterloo Road London, SE1 8UL
DESCRIPTION:Hello,\n\nLike Napoleon, let's go in exile to the rooftop Bar Elba on 20th of June in front of Waterloo for a few hours... before gathering our forces to conquer the rest of the week!\nHopefully the weather will be good enough to stay outside. If not, down in the basement of the same building there is Tonight Josephine – a bar named after our beloved emperor’s wife, Joséphine.\n\nSee you all very soon!\n\nAmicalement vôtre,\nTristan
BEGIN:VALARM
ACTION:DISPLAY
TRIGGER:-PT60M
DESCRIPTION:Afterwork Audencia London 20 June
END:VALARM
END:VEVENT
END:VCALENDAR