BEGIN:VCALENDAR
VERSION:2.0
X-WR-TIMEZONE:Europe/Paris
PRODID:-//Audencia//NONSGML v1.0//EN
CALSCALE:GREGORIAN
BEGIN:VEVENT
SUMMARY:[Learn & Drinks] Special Guest: Celine Legrand
DTSTART:20180524T180000
DTEND:20180524T180000
UID:148
DTSTAMP:20260425T205730
LOCATION:100 William Street Franck Provost Sydney -- Level 7 Woolloomooloo
DESCRIPTION:Bonjour a tous,\n\nPour ce nouvel evenement Audencia Alumni a Sydney, nous avons le plaisir d'accueillir Celine Legrand.\nCeline Legrand est Professeur au Département Management, spécialisée dans l'enseignement du comportement organisationnel et des soft skills. \n\nAvant de regagner la France, elle a accepte de partager son experience et les elements clefs sa recherche.\nEn quelques lignes : Les préférences individuelles aident à mieux comprendre comment nous nous adaptons au quotidien, mais aussi comment nous apprenons et abordons les situations stressantes. C'est aussi un bel outil de développement personnel et professionnel.\n\nNous irons par la suite au Tatler, excellent bar a cocktails, pour continuer cette discussion passionnnte.\n\nA tres vite !\nPour d'habitude, si vous avez la moindre question n'hesitez pas a poster sur la page de la communaute.
BEGIN:VALARM
ACTION:DISPLAY
TRIGGER:-PT60M
DESCRIPTION:[Learn & Drinks] Special Guest: Celine Legrand
END:VALARM
END:VEVENT
END:VCALENDAR