BEGIN:VCALENDAR
VERSION:2.0
X-WR-TIMEZONE:Europe/Paris
PRODID:-//Audencia//NONSGML v1.0//EN
CALSCALE:GREGORIAN
BEGIN:VEVENT
SUMMARY:Afterwork en présence du Directeur Grande Ecole d'Audencia - 22 mai 2018
DTSTART:20180522T200000
DTEND:20180522T233000
UID:147
DTSTAMP:20260425T223840
LOCATION:Café Juliette, 41 Rue Juliette Récamier, 69006 Lyon (Métro Brotteaux)
DESCRIPTION:Bonjour à tous,\nle 22 mai, Nicolas Arnaud, Directeur d'Audencia Grande Ecole sera à Lyon. Un afterwork en sa présence est organisé pour l'occasion au Céfa Juliette, 41 Rue Juliette Récamier, 69006 Lyon (Métro Brotteaux) à 20h!!\nA bientôt,\npaul
BEGIN:VALARM
ACTION:DISPLAY
TRIGGER:-PT60M
DESCRIPTION:Afterwork en présence du Directeur Grande Ecole d'Audencia - 22 mai 2018
END:VALARM
END:VEVENT
END:VCALENDAR