BEGIN:VCALENDAR
VERSION:2.0
X-WR-TIMEZONE:Europe/Paris
PRODID:-//Audencia//NONSGML v1.0//EN
CALSCALE:GREGORIAN
BEGIN:VEVENT
SUMMARY:MEET & DISCOVER - Marche sur le plus long pont suspendu piétonnier au monde (Vallée de Zermatt)
DTSTART:20180818T093000
DTEND:20180818T160000
UID:146
DTSTAMP:20260425T205858
LOCATION:Vallée de Zermatt
DESCRIPTION:MEET & DISCOVER\nRandonnée de 4 heures pour rejoindre le plus long pont suspendu piétonnier au monde (Vallée de Zermatt) aura lieu:\n\nle samedi 18 août\n\nInformations pratiques :\n\n\n	La randonnée :\n	\n		Départ à 9h30 à la Gare de Randa (parking central payant), située à 2h45 de Genève / 2h de Lausanne\n		Point d’arrivée : Gare de Randa\n		Niveau de difficulté: Moyen\n		Point d’attention à ceux souffrant de vertige (la traversée du pont dure une dizaine de minutes et le point culminant est à 85 mètres de profondeur)\n	\n	\n\n\nLes informations détaillées sur la marche sont disponibles via le lien suivant :  \n\nhttps://www.zermatt.ch/fr/Media/Planifier-des-randonnees-des-excursions/Circuit-pedestre-jusqu-au-pont-suspendu-de-Randa \n\n \n\n\n	Organisation :\n	\n		Pour s’y rendre : nous pouvons s’organiser pour du covoiturage, si certains le souhaitent.\n		Pour loger sur place et le repas du samedi midi : chacun réserve son hébergement et prépare son sandwich, par principe de simplicité.\n		Contacts : Sophie Huchet au 078 615 74 03 et Sandrine Pierre au 078 603 81 36. Nous sommes joignables par téléphone et whatsapp.\n	\n	\n\n\n\nSi vous souhaitez participer, merci d'avance de vous inscrire via Together.\n\nSophie Huchet (GE 1990) & Sandrine Pierre (GE 2007)\n
BEGIN:VALARM
ACTION:DISPLAY
TRIGGER:-PT60M
DESCRIPTION:MEET & DISCOVER - Marche sur le plus long pont suspendu piétonnier au monde (Vallée de Zermatt)
END:VALARM
END:VEVENT
END:VCALENDAR