BEGIN:VCALENDAR
VERSION:2.0
X-WR-TIMEZONE:Europe/Paris
PRODID:-//Audencia//NONSGML v1.0//EN
CALSCALE:GREGORIAN
BEGIN:VEVENT
SUMMARY:Afterwork Audencia London
DTSTART:20180501T183000
DTEND:20180501T210000
UID:145
DTSTAMP:20260425T205717
LOCATION:Counting House, 50 Cornhill, London, EC3V 3PD
DESCRIPTION:Hello!\n\nIt is possibly already the summer... Joking aside, let's meet on Tuesday the 1st of May at the absolutely gorgeous Counting House on Cornhill in the City of London for a few pints (or whatever you want to drink) from 18.30 onwards. Trivia: as the name indicates, this pub was once a bank.\n\nSee you all very soon!\n\nAmicalement vôtre,\nTristan
BEGIN:VALARM
ACTION:DISPLAY
TRIGGER:-PT60M
DESCRIPTION:Afterwork Audencia London
END:VALARM
END:VEVENT
END:VCALENDAR