BEGIN:VCALENDAR
VERSION:2.0
X-WR-TIMEZONE:Europe/Paris
PRODID:-//Audencia//NONSGML v1.0//EN
CALSCALE:GREGORIAN
BEGIN:VEVENT
SUMMARY:ANNULÉ - Sortie culturelle: Théâtre en francais
DTSTART:20180620T194500
DTEND:20180620T230000
UID:144
DTSTAMP:20260425T205840
LOCATION:Teamtheater Tankstelle, Am Einlaß 2a, 80469 München
DESCRIPTION:UPDATE\nEn l' absence de participants, cet événement est annulé.\n-------------------------------------\n\nBonjour,\nle 21 juin étant la fête de la Musique en France, je vous propose de nous retrouver dans une atmosphère culturelle,  pour une soirée théâtre.\n\nJe vous propose la pièce "Oscar" au Teamtheater Tankstelle (au sud du Viktualienmarkt):\nhttps://www.teamtheater.de/elemec.html\n\n*****************************************************\nOSCAR \nd'après Claude Magnier / Adaptation Théâtre Élémec\n \n\nLa journée délirante de Bertrand Barnier, PDG des cosmétiques Barnier, aux prises avec une avalanche de situations plus inattendues les unes que les autres.\n\nCar de révélation en révélation, il va sombrer dans un cauchemar éveillé dans lequel seul le pire est possible: Ses valises changent de contenu, sa fille change de tête et de fiancé chaque fois qu'une porte claque, sa bonne s'en va mais son kiné déjanté arrive, et pour finir Oscar, son chauffeur, est introuvable…\n\nAvec : Camille Annereau, Sylvain Auzoux, Guillaume Blondeau, Matthieu Charpentier\nMagali Jakob-Loué, Charlotte Limet, Claudia Mevel, Marie Vanbaelinghem, Emmanuel Zimpfer\n\nMise en scène: Bernard Louvion\nÉclairage: Étienne Gillig (www.gillig.tv)\nGraphisme: Karin Brummer; Emmanuel Zimpfer\n\nTicket: 22€ par personne\n*****************************************************************\n\nInscrivez-vous vite au plus tard le 13 juin et réservez la date! En dessous de 5 participants, l' événement sera annulé.\n\nMerci de faire passer le mot aux nouveaux arrivants.\n\nA bientôt\nAmandine
BEGIN:VALARM
ACTION:DISPLAY
TRIGGER:-PT60M
DESCRIPTION:ANNULÉ - Sortie culturelle: Théâtre en francais
END:VALARM
END:VEVENT
END:VCALENDAR