BEGIN:VCALENDAR
VERSION:2.0
X-WR-TIMEZONE:Europe/Paris
PRODID:-//Audencia//NONSGML v1.0//EN
CALSCALE:GREGORIAN
BEGIN:VEVENT
SUMMARY:Sydney Afterwork at Cafe Del Mar Rooftop Bar
DTSTART:20180426T180000
DTEND:20180426T230000
UID:142
DTSTAMP:20260425T223811
LOCATION:Cafe Del Mar -- 35 Wheat Road, Rooftop Terrace, Cockle Bay Wharf, Sydney NSW 2000
DESCRIPTION:Dear all,\n\nPlease come along to our first afterwork this year! \n\nYou're all welcome to share some cocktails & mocktails at Cafe Del Mar rooftop bar in Darling Harbor.\nLooking forward to seeing you all -- speak soon!\n\nLink to the Facebook event: https://www.facebook.com/events/429421877494490/\n\nIf you need anything or cannot find us on the day, please call 0408371611
BEGIN:VALARM
ACTION:DISPLAY
TRIGGER:-PT60M
DESCRIPTION:Sydney Afterwork at Cafe Del Mar Rooftop Bar
END:VALARM
END:VEVENT
END:VCALENDAR