BEGIN:VCALENDAR
VERSION:2.0
X-WR-TIMEZONE:Europe/Paris
PRODID:-//Audencia//NONSGML v1.0//EN
CALSCALE:GREGORIAN
BEGIN:VEVENT
SUMMARY:les expositions itinérantes : un business qui tourne ?
DTSTART:20180523T190000
DTEND:20180523T210000
UID:141
DTSTAMP:20260425T205729
LOCATION:12 Rue Boissy d'Anglas, 75008 Paris
DESCRIPTION:EVENEMENT PAYANT : inscriptions obilgatoires sur : https://www.culture-et-management.com/debats/les_expositions_itinerantes_un_business_qui_tourne.html\n\nDe nombreuses institutions font appel pour leur programmation à des expositions qu’elles louent. Réciproquement, elles produisent elles même des expositions qu’elles cherchent à faire tourner. En 2015, la Cité de la Musique accueillait ainsi pour 1, 2 Millions d’euros pour 3 mois une exposition à succès sur David Bowie initiée par le Victoria and Albert Museum de Londres… pour une fréquentation record permettant d’espérer des recettes supérieures, d’après son directeur Laurent Bayle, cité par les Echos.\n\nS’agit-il pour autant d’un « business » dans lequel peuvent trouver à s’épanouir des acteurs privés ? Ou plutôt d’un reflet de la contrainte financière qui pèse sur les institutions ? Quelle est la part des expositions itinérantes parmi les expositions produites ? Toutes les expositions sont-elles susceptibles d’itinérer ? Quelles contraintes l’itinérance fait elle peser sur la créativité et le contenu ? Comment les exposants gèrent-ils le mix entre production propre et accueil d’expositions produites ou co-produites ? Quelle est l’utilité des tourneurs, comment interviennent-ils ?… Autant de questions que nous poserons à nos intervenants.\n \n\nIntervenants\n\n\n	Michèle Antoine, Directrice des expositions, Universcience\n	Alice Chamblas, Responsable du développement international, Philharmonie de Paris\n	Olivier Retout, Directeur Général, Société publique locale LASCAUX, International Exhibition\n	Iole Siena, Présidente, Arthémisia\n\n\nModérateurs\n\n\n	Bénédicte GÉRARD\n	universcience/Chef de la Mission Audit Interne, Responsable Beaux Arts/Patrimoine c&m\n
BEGIN:VALARM
ACTION:DISPLAY
TRIGGER:-PT60M
DESCRIPTION:les expositions itinérantes : un business qui tourne ?
END:VALARM
END:VEVENT
END:VCALENDAR