BEGIN:VCALENDAR
VERSION:2.0
X-WR-TIMEZONE:Europe/Paris
PRODID:-//Audencia//NONSGML v1.0//EN
CALSCALE:GREGORIAN
BEGIN:VEVENT
SUMMARY:Salon Sugar Paris
DTSTART:20180420T090000
DTEND:20180422T160000
UID:140
DTSTAMP:20260425T205846
LOCATION:Parc Floral de Paris
DESCRIPTION:Explore the best of cake and sugar at the Sugar Paris & ExpoGato exhibition, April 20-22, 2018. Venue:  Parc Floral de Paris
BEGIN:VALARM
ACTION:DISPLAY
TRIGGER:-PT60M
DESCRIPTION:Salon Sugar Paris
END:VALARM
END:VEVENT
END:VCALENDAR