BEGIN:VCALENDAR
VERSION:2.0
X-WR-TIMEZONE:Europe/Paris
PRODID:-//Audencia//NONSGML v1.0//EN
CALSCALE:GREGORIAN
BEGIN:VEVENT
SUMMARY:Réunion de Coordination + Réunion de Bureau
DTSTART:20170313T193000
DTEND:20170313T223000
UID:14
DTSTAMP:20260425T205821
LOCATION:Conférence Téléphonique
DESCRIPTION: contenu dans le mail envoyé semaine dernière
BEGIN:VALARM
ACTION:DISPLAY
TRIGGER:-PT60M
DESCRIPTION:Réunion de Coordination + Réunion de Bureau
END:VALARM
END:VEVENT
END:VCALENDAR