BEGIN:VCALENDAR
VERSION:2.0
X-WR-TIMEZONE:Europe/Paris
PRODID:-//Audencia//NONSGML v1.0//EN
CALSCALE:GREGORIAN
BEGIN:VEVENT
SUMMARY:Comment les réseaux sociaux influencent la vie du livre papier ?
DTSTART:20180404T190000
DTEND:20180404T210000
UID:138
DTSTAMP:20260425T205850
LOCATION:Fondation d'entreprise Ricard 12, rue Boissy d'Anglas, 75008 Paris, France
DESCRIPTION:EVENEMENT PAYANT - inscription obligatoire en suivant ce lien : https://www.culture-et-management.com/debats/comment_les_reseaux_sociaux_influencent_la_vie_du_livre_papier.html\n\nAprès avoir longtemps opposé le papier à l'internet, les éditeurs se rendent comptent aujourd'hui que les réseaux sociaux peuvent faire vendre les versions papier des ouvrages.\n\nDu recrutement d'auteurs, à la promotion ciblée sans oublier les actions commerciales efficaces, les réseaux sociaux deviendraient-ils les meilleurs amis des éditeurs papier ?\n\nModérateurs\nStéphane CHABENAT / Responsable édition
BEGIN:VALARM
ACTION:DISPLAY
TRIGGER:-PT60M
DESCRIPTION:Comment les réseaux sociaux influencent la vie du livre papier ?
END:VALARM
END:VEVENT
END:VCALENDAR