BEGIN:VCALENDAR
VERSION:2.0
X-WR-TIMEZONE:Europe/Paris
PRODID:-//Audencia//NONSGML v1.0//EN
CALSCALE:GREGORIAN
BEGIN:VEVENT
SUMMARY:Petit Déjeuner Nantes : « Faire de l'engagement le 1er levier de performance des entreprises »
DTSTART:20180419T081500
DTEND:20180419T100000
UID:136
DTSTAMP:20260425T223738
LOCATION:Audencia (salle Forum) 8, route de la Jonelière 44300 Nantes
DESCRIPTION:\nEn ce début d'année où le soleil manque vous manquez peut-être d'entrain au travail. Est-ce vraiment la faute du mauvais temps ou simplement la preuve que vous faites partie des 90% de Français qui sont désengagés au travail ? Vous attendez alors les primes et autres augmentations pour basculer du côté des engagés. Ces avantages matériels ne suffiront pas à vous sortir de cette posture de consommateur de l'entreprise. \n \nQue faire alors ?\nVenez prendre un petit déjeuner à Audencia avec notre expert, Hugues de Saint Vincent, qui vous donnera les clés pour devenir engagé(e) et entraîner avec vous vos collègues. Hugues de Saint Vincent a créé le club ARMEN, un club de l'engagement dont l'objectif est de transformer les organisations par et pour les Hommes pour les rendre plus performantes, grâce à l'engagement de chacun.\n\n\nDéroulé de la rencontre :\n\n\n	8h15 : accueil café-viennoiseries\n	8h30 : conférence\n	9h15 : échanges\n\n\n\n\nPour en savoir un peu plus :\n\n- www.clubarmen.com\n\n- www.hdesaintvincent.com/blog\n\n 
BEGIN:VALARM
ACTION:DISPLAY
TRIGGER:-PT60M
DESCRIPTION:Petit Déjeuner Nantes : « Faire de l'engagement le 1er levier de performance des entreprises »
END:VALARM
END:VEVENT
END:VCALENDAR