BEGIN:VCALENDAR
VERSION:2.0
X-WR-TIMEZONE:Europe/Paris
PRODID:-//Audencia//NONSGML v1.0//EN
CALSCALE:GREGORIAN
BEGIN:VEVENT
SUMMARY:Lille - Afterwork 6
DTSTART:20180517T190000
DTEND:20180517T204500
UID:135
DTSTAMP:20260425T205903
LOCATION:The Queen Victoria 161 Rue Solférino, 59000 Lille
DESCRIPTION:Bonjour à tous, \n\nLe prochain Afterwork des Alumni de Lille aura lieu le jeudi 17 MAI 2018, à partir de 19h00, pour se réunir autour d'un verre et échanger nos expériences de diplômés ou étudiants d'Audencia.\nEt ouai, ça vous laisse + de 2 mois pour vous laisser le temps d'ajouter l'évènement à votre agenda !\n\nLe lieu : Pub THE QUEEN VICTORIA, 161 rue Solférino 59000 LILLE\nJ'ai  déjà réservé la table, comme ça c'est fait.\nCe pub est situé à l'angle de la rue Inkermann et de la rue Solférino, juste en face du théâtre Sébastopol et de son parking (pour ceux qui viennent en voiture). A quelques pas du métro République.\n\nPensez à vous inscrire !  \n\nSi l'horaire de début est un peu trop tôt pour vous, ce n'est pas un souci, venez dès que vous pouvez. Envoyez-moi simplement un SMS que je sache quoi ;)\n\nCédric Foussard - 07.62.14.75.34 
BEGIN:VALARM
ACTION:DISPLAY
TRIGGER:-PT60M
DESCRIPTION:Lille - Afterwork 6
END:VALARM
END:VEVENT
END:VCALENDAR