BEGIN:VCALENDAR
VERSION:2.0
X-WR-TIMEZONE:Europe/Paris
PRODID:-//Audencia//NONSGML v1.0//EN
CALSCALE:GREGORIAN
BEGIN:VEVENT
SUMMARY:Afterwork de mai - Restaurant éthiopien Blue Nile
DTSTART:20180515T190000
DTEND:20180515T230000
UID:134
DTSTAMP:20260425T205855
LOCATION:Viktor-Scheffel-Straße 22, 80803 München
DESCRIPTION:Bonjour, \nje réserve déjà la date pour un afterwork en mai. Le lieu sera confirmé plus tard.\n\nConformément au dicton "en mai, fais ce qu'il te plaît", je vous laisse choisir le lieu de l'afterwork, voici quelques propositions, faites-moi part de vos préférences et je vous informerai sur le gagnant en avril:\n\n1- Sushi: http://www.mai-asia.de/ (U2 Hohenzollernplatz)\n2- Italien: L'Osteria (Giselastrasse, U3/U6)    http://losteria.de/restaurant/muenchen-leopoldstrasse/\n3- Ethiopien: Blue Nile (Tram Kurfürstenplatz / U2 Hohenzollerplatz) https://www.speisekarte.de/m%C3%BCnchen/restaurant/blue_nile\n4- ou bien une proposition de votre part!\n\n\nInscrivez-vous vite! En-dessous de 5 participants; l'événement sera annulé.\n\nMerci de faire passer le message aux nouveaux arrivants.\n\nA bientôt\nAmandine
BEGIN:VALARM
ACTION:DISPLAY
TRIGGER:-PT60M
DESCRIPTION:Afterwork de mai - Restaurant éthiopien Blue Nile
END:VALARM
END:VEVENT
END:VCALENDAR