BEGIN:VCALENDAR
VERSION:2.0
X-WR-TIMEZONE:Europe/Paris
PRODID:-//Audencia//NONSGML v1.0//EN
CALSCALE:GREGORIAN
BEGIN:VEVENT
SUMMARY:Afterwork à Nantes au Vertigo
DTSTART:20180913T183000
DTEND:20180913T220000
UID:132
DTSTAMP:20260425T210026
LOCATION:Le VERTIGO Skybar
DESCRIPTION:Chers Alumni,\n\nRetrouvons-nous, comme chaque fois,  autour d'un verre et de planches apéritives, pour partager nos expériences et projets.Ce sont toujours des moments de bonnes surprises et de belles rencontres. De mémoire de diplomée, on vous a toujours vu repartir avec le sourire ! \n\nJe vous propose pour cette fois-ci, et après contrôle de la météo prévue très clémente pour la semaine prochaine, de nous retrouver au Skybar du VERTIGO  (7ème étage): http://vertigo-restaurant.com. Un espace privatisé nous attend à l'intérieur, mais le mieux c'est la terrasse. Comme on ne peut pas la privatiser, je propose que nous essayons d'être là vers 18h30 et que les 1ers arrivés "squattent" le salon en attendant les autres. Pour ma part, je vais faire mon max, mais démarrant un nouveau job lundi, je ne peux rien promettre. Merci du coup de main collectif de chacun !!!\n\nEn cas de désistement de dernière minute, merci de me prévenir au 07 83 31 08 02\n\nSandrine Haudebert
BEGIN:VALARM
ACTION:DISPLAY
TRIGGER:-PT60M
DESCRIPTION:Afterwork à Nantes au Vertigo
END:VALARM
END:VEVENT
END:VCALENDAR