BEGIN:VCALENDAR
VERSION:2.0
X-WR-TIMEZONE:Europe/Paris
PRODID:-//Audencia//NONSGML v1.0//EN
CALSCALE:GREGORIAN
BEGIN:VEVENT
SUMMARY:Afterwork à Nantes
DTSTART:20180411T193000
DTEND:20180411T220000
UID:131
DTSTAMP:20260425T205852
LOCATION:LE MARCEAU - 3, rue Camille Berruyer - 44000 Nantes
DESCRIPTION:Chers Alumni,\n\nRetrouvons-nous, comme chaque fois,  autour d'un verre et de planches apéritives, pour partager nos expériences et projets.\nCe sont toujours des moments de bonnes surprises et de belles rencontres. De mémoire de diplomée, on vous a toujours vu repartir avec le sourire ! \n\nInscription recommandée pour des raisons d'organisation : nous nous retrouverons au Marceau, bar assez calme et propice aux échanges (déjà testé ?).\nEn cas de désistement de dernière minute, merci de me prévenir au 07 83 31 08 02\n\nSandrine Haudebert
BEGIN:VALARM
ACTION:DISPLAY
TRIGGER:-PT60M
DESCRIPTION:Afterwork à Nantes
END:VALARM
END:VEVENT
END:VCALENDAR