BEGIN:VCALENDAR
VERSION:2.0
X-WR-TIMEZONE:Europe/Paris
PRODID:-//Audencia//NONSGML v1.0//EN
CALSCALE:GREGORIAN
BEGIN:VEVENT
SUMMARY:Paris 2024 : un accélérateur sociétal ?
DTSTART:20180321T183000
DTEND:20180321T203000
UID:130
DTSTAMP:20260425T205951
LOCATION:Audencia Business School Campus Paris
DESCRIPTION:Le 13 septembre dernier, la ville de Paris a été élue par le Comité International Olympique (CIO) ville-hôte des Jeux olympiques et paralympiques (JOP) 2024 ; point d’orgue d’une intense campagne de candidature durant laquelle la qualité du dossier parisien aura été plusieurs fois soulignée.\n\nQue ce soit en termes de vision des Jeux, d’héritage, d’excellence environnementale, d’engagement des athlètes ou encore de promotion de la marque, les stratégies menées par le Comité de candidature ont permis au dossier parisien de se différencier de celui de son principal concurrent (Los Angeles) et ont contribué à ramener les JOP à Paris, 100 ans tout juste après la dernière édition parisienne.\n\nAlors que s’ouvre la phase d’organisation des JOP proprement dite, avec la mise en place du Comité d’organisation (COJO) et l’adoption de la Loi Olympique, comment ces stratégies vont-elles se matérialiser dans les années à venir ? Le COJO tiendra-t-il les engagements pris et répondra-t-il aux attentes, nombreuses, entourant le projet parisien ? Comment faire en sorte que les JOP agissent comme un accélérateur sociétal et bénéficient à la société française dans son ensemble, avant, pendant et après 2024 ?\n\nDans le cadre d’un projet pédagogique mené avec les étudiants du Mastère Spécialisé en Management des Organisations de Sport (MS MOS) d’Audencia Business School, le Think tank Sport et Citoyenneté et Audencia Business School organisent une conférence-débat visant à mettre en lumière les facteurs-clés de réussite du dossier parisien et à questionner la vision des Jeux proposée par le Comité de Candidature Paris 2024.\n\n\nProgramme :\n18h15 : Accueil des participants\n18h30 : Introduction\n\n	Julian Jappert, Directeur du Think tank Sport et Citoyenneté\n	Dr Anna Gerke, professeur associée, responsable du MS MOS d’Audencia Business School\n	Un représentant des étudiants du MS MOS\n\n18h45 : Table-ronde : "Paris 2024 : un accélérateur sociétal?"\nModérée par Mathilde Guénégan, journaliste LCI, membre du Think tank Sport et Citoyenneté\n\nEn présence de :\n\n	Aude Amadou, Députée, Rapporteure du projet de loi relatif à l’organisation des JOP 2024)\n	Gwladys Épangue, Double championne du monde et médaillée de bronze en taekwondo, co-présidente de la Commission des athlètes de haut niveau du CNOSF\n	Kévin Bernardi, Consultant et spécialiste des questions olympiques, Fondateur du site « Sport & Société », Membre du Comité Scientifique du Think tank Sport et Citoyenneté\n\n19h55 : Echanges avec la salle\n20h15 : Conclusion\n\nL'inscription est possible via ce lien : https://www.eventbrite.fr/e/billets-paris-2024-un-accelerateur-societal-42714334725 
BEGIN:VALARM
ACTION:DISPLAY
TRIGGER:-PT60M
DESCRIPTION:Paris 2024 : un accélérateur sociétal ?
END:VALARM
END:VEVENT
END:VCALENDAR