BEGIN:VCALENDAR
VERSION:2.0
X-WR-TIMEZONE:Europe/Paris
PRODID:-//Audencia//NONSGML v1.0//EN
CALSCALE:GREGORIAN
BEGIN:VEVENT
SUMMARY:Spring's Night Audencia Bachelor Network
DTSTART:20170331T193000
DTEND:20170331T230000
UID:13
DTSTAMP:20260425T205715
LOCATION:LAB [Loft Atelier Bayard] 1 rue Bayard 44100 Nantes
DESCRIPTION:Fort de son changement de nom, votre réseau Audencia Bachelor Network vous propose de se retrouver lors d'une soirée alliant plaisir et rencontres professionnelles le Vendredi 31 Mars.\n\nRejoignez-nous au Loft Atelier Bayard de Nantes dès 19h30.
BEGIN:VALARM
ACTION:DISPLAY
TRIGGER:-PT60M
DESCRIPTION:Spring's Night Audencia Bachelor Network
END:VALARM
END:VEVENT
END:VCALENDAR