BEGIN:VCALENDAR
VERSION:2.0
X-WR-TIMEZONE:Europe/Paris
PRODID:-//Audencia//NONSGML v1.0//EN
CALSCALE:GREGORIAN
BEGIN:VEVENT
SUMMARY:Apéro d’avril
DTSTART:20180425T190000
DTEND:20180425T230000
UID:129
DTSTAMP:20260425T205704
LOCATION:Spargo Linnaeusstraat 37A, 1093 EG Amsterdam
DESCRIPTION:RDV le 25 avril pour notre troisième borrel des Audenciens des Pays-Bas\nEn espérant avoir du beau temps cette fois pour pouvoir se retrouver en extérieur au bord de l'eau!
BEGIN:VALARM
ACTION:DISPLAY
TRIGGER:-PT60M
DESCRIPTION:Apéro d’avril
END:VALARM
END:VEVENT
END:VCALENDAR