BEGIN:VCALENDAR
VERSION:2.0
X-WR-TIMEZONE:Europe/Paris
PRODID:-//Audencia//NONSGML v1.0//EN
CALSCALE:GREGORIAN
BEGIN:VEVENT
SUMMARY:Soirée networking RSE /ESS
DTSTART:20180322T190000
DTEND:20180322T210000
UID:128
DTSTAMP:20260425T205815
LOCATION:LE SOCIAL BAR 25 rue Villiot 75012 PARIS  (métros gare de Lyon, Bercy et Quai de la rapée)
DESCRIPTION:Tu travailles, souhaites travailler, t'intéresses au secteur de la RSE ( Responsabilité Sociale et Environnementale) /de l'ESS (l'économie sociale et solidaire) ou leurs univers connexes?\nRetrouvons-nous pour une soirée informelle au Social Bar, Paris, un bar solidaire, inventif et festif. (Social Bar 25 rue Villiot 12ieme métros gare de Lyon, Bercy et Quai de la rapée).\n\nA bientôt\nEmilie Riess et Elsa Nedelec
BEGIN:VALARM
ACTION:DISPLAY
TRIGGER:-PT60M
DESCRIPTION:Soirée networking RSE /ESS
END:VALARM
END:VEVENT
END:VCALENDAR