BEGIN:VCALENDAR
VERSION:2.0
X-WR-TIMEZONE:Europe/Paris
PRODID:-//Audencia//NONSGML v1.0//EN
CALSCALE:GREGORIAN
BEGIN:VEVENT
SUMMARY:Afterwork - 10 avril 2018
DTSTART:20180410T200000
DTEND:20180410T235900
UID:125
DTSTAMP:20260425T210004
LOCATION:l'Accent, 61 Rue Masséna, 69006 Lyon, France
DESCRIPTION:Chers tous,\nvoici les détails du prochain événement que vous attendiez tous !\n- mardi 10 avril\n- 20h\n- à l'Accent, 61 Rue Masséna, 69006 Lyon, France\n- formule libre (chacun commande à son entendement et paye ses consommations)\nA très bientôt,\npaul pinlon\nGE 2009\n06 18 38 37 60
BEGIN:VALARM
ACTION:DISPLAY
TRIGGER:-PT60M
DESCRIPTION:Afterwork - 10 avril 2018
END:VALARM
END:VEVENT
END:VCALENDAR