BEGIN:VCALENDAR
VERSION:2.0
X-WR-TIMEZONE:Europe/Paris
PRODID:-//Audencia//NONSGML v1.0//EN
CALSCALE:GREGORIAN
BEGIN:VEVENT
SUMMARY:Nantes - Afterwork
DTSTART:20180222T190000
DTEND:20180222T210000
UID:124
DTSTAMP:20260425T205725
LOCATION:Le Gattino - Place de l'edit de nantes, 44100 Nantes
DESCRIPTION:Chers Alumni,\n\nRetrouvons-nous autour d'un verre pour partager nos expériences et projets.\nCe sont toujours des moments de bonnes surprises et de belles rencontres. De mémoire de diplomée, on vous a toujours vu repartir avec le sourire ! \nPour cette fois, Christian Hily (GE 99) nous propose la création d'un club 'Toastmaster'... Vous voulez en savoir plus, alors rejoignez-nous, nous avons privatisé le Gattino à cette occasion.\n\nInscription recommandée pour des raisons d'organisation.\n\nPour se garer, le mieux, c'est encore boulevard Guist'hau. Prévoyer un peu de temps, car c'est dense dans le quartier !\n\nEn cas de désistement de dernière minute, merci de me prévenir au 07 83 31 08 02\n\nSandrine Haudebert
BEGIN:VALARM
ACTION:DISPLAY
TRIGGER:-PT60M
DESCRIPTION:Nantes - Afterwork
END:VALARM
END:VEVENT
END:VCALENDAR